BEGIN:VCALENDAR
VERSION:2.0
PRODID:-//Tukios.com/
BEGIN:VEVENT
UID:05638469-f9f1-4b34-be16-7eed4d2c67ff@www.cloydfuneralhome.com
DTSTAMP:20260420T212029Z
DTSTART:20260421
SUMMARY:Luncheon
DESCRIPTION:
URL:https://www.cloydfuneralhome.com/obituaries/susanna-wollman
LOCATION:Flatwillow Ranch (North of Roundup) 559 Colony Road  Roundup MT 
	59072
GEO:46.7230908;-108.4947479
END:VEVENT
END:VCALENDAR