BEGIN:VCALENDAR
VERSION:2.0
PRODID:-//Tukios.com/
BEGIN:VEVENT
UID:65e0893d-f046-4c87-98ed-6299bd902c69@www.cloydfuneralhome.com
DTSTAMP:20260420T212151Z
DTSTART:20260421
SUMMARY:Committal
DESCRIPTION:
URL:https://www.cloydfuneralhome.com/obituaries/susanna-wollman
LOCATION:Flatwillow Ranch (North of Roundup) 559 Colony Road  Roundup MT 
	59072
GEO:46.7230908;-108.4947479
END:VEVENT
END:VCALENDAR