BEGIN:VCALENDAR
VERSION:2.0
PRODID:-//Tukios.com/
BEGIN:VEVENT
UID:df970d14-e9d2-4d08-9d47-7144677b83b3@www.cloydfuneralhome.com
DTSTAMP:20260420T211548Z
DTSTART:20260421T170000Z
DTEND:20260421T180000Z
SUMMARY:Funeral Service
DESCRIPTION:
URL:https://www.cloydfuneralhome.com/obituaries/susanna-wollman
LOCATION:Mercy Baptist Church 903 Main St  Roundup MT 59072
GEO:46.4501291;-108.5424338
END:VEVENT
END:VCALENDAR